BEGIN:VCALENDAR
VERSION:2.0
PRODID:-//Beaver Creek Cycle - ECPv6.15.20//NONSGML v1.0//EN
CALSCALE:GREGORIAN
METHOD:PUBLISH
X-WR-CALNAME:Beaver Creek Cycle
X-ORIGINAL-URL:https://beavercreekcycle.com
X-WR-CALDESC:Events for Beaver Creek Cycle
REFRESH-INTERVAL;VALUE=DURATION:PT1H
X-Robots-Tag:noindex
X-PUBLISHED-TTL:PT1H
BEGIN:VTIMEZONE
TZID:America/New_York
BEGIN:DAYLIGHT
TZOFFSETFROM:-0500
TZOFFSETTO:-0400
TZNAME:EDT
DTSTART:20250309T070000
END:DAYLIGHT
BEGIN:STANDARD
TZOFFSETFROM:-0400
TZOFFSETTO:-0500
TZNAME:EST
DTSTART:20251102T060000
END:STANDARD
BEGIN:DAYLIGHT
TZOFFSETFROM:-0500
TZOFFSETTO:-0400
TZNAME:EDT
DTSTART:20260308T070000
END:DAYLIGHT
BEGIN:STANDARD
TZOFFSETFROM:-0400
TZOFFSETTO:-0500
TZNAME:EST
DTSTART:20261101T060000
END:STANDARD
BEGIN:DAYLIGHT
TZOFFSETFROM:-0500
TZOFFSETTO:-0400
TZNAME:EDT
DTSTART:20270314T070000
END:DAYLIGHT
BEGIN:STANDARD
TZOFFSETFROM:-0400
TZOFFSETTO:-0500
TZNAME:EST
DTSTART:20271107T060000
END:STANDARD
END:VTIMEZONE
BEGIN:VEVENT
DTSTART;VALUE=DATE:20260516
DTEND;VALUE=DATE:20260518
DTSTAMP:20260420T090157
CREATED:20251214T212557Z
LAST-MODIFIED:20251214T230905Z
UID:6708-1778889600-1779062399@beavercreekcycle.com
SUMMARY:GNCC Powerline Park
DESCRIPTION:GNCC Powerline Park\nGNCC Powerline Park Racing returns for the first time since 2018\, located near Wheeling\, West Virginia. Mud is often a factor at Powerline Park\, but the course has seen layout changes over the years\, including sections the series has not previously raced. \nWhen conditions are muddy\, the terrain tends to be less slippery on tires and less sticky on machines compared to Southern Ohio events like the John Penton — a welcome relief for racers. \nThis is classic GNCC racing: tight woods\, mud\, and elevation changes\, with some high-speed sections mixed in\, including wide-open grass track. With Ohio’s strong off-road racing community nearby\, you can expect a big and energetic crowd throughout the weekend. \nDetails: GNCC Racing\nBCC Home
URL:https://beavercreekcycle.com/bcc-event/gncc-powerline-park/
LOCATION:Powerline Park\, 200 Walnut Ave\, St Clairsville\, OH\, 43950\, United States
CATEGORIES:Cross Country
ATTACH;FMTTYPE=image/png:https://beavercreekcycle.com/wp-content/uploads/2025/12/GNCC.png
ORGANIZER;CN="GNCC Racing":MAILTO:info@gnccracing.com
END:VEVENT
END:VCALENDAR