BEGIN:VCALENDAR
VERSION:2.0
PRODID:-//Beaver Creek Cycle - ECPv6.15.20//NONSGML v1.0//EN
CALSCALE:GREGORIAN
METHOD:PUBLISH
X-WR-CALNAME:Beaver Creek Cycle
X-ORIGINAL-URL:https://beavercreekcycle.com
X-WR-CALDESC:Events for Beaver Creek Cycle
REFRESH-INTERVAL;VALUE=DURATION:PT1H
X-Robots-Tag:noindex
X-PUBLISHED-TTL:PT1H
BEGIN:VTIMEZONE
TZID:America/New_York
BEGIN:DAYLIGHT
TZOFFSETFROM:-0500
TZOFFSETTO:-0400
TZNAME:EDT
DTSTART:20250309T070000
END:DAYLIGHT
BEGIN:STANDARD
TZOFFSETFROM:-0400
TZOFFSETTO:-0500
TZNAME:EST
DTSTART:20251102T060000
END:STANDARD
BEGIN:DAYLIGHT
TZOFFSETFROM:-0500
TZOFFSETTO:-0400
TZNAME:EDT
DTSTART:20260308T070000
END:DAYLIGHT
BEGIN:STANDARD
TZOFFSETFROM:-0400
TZOFFSETTO:-0500
TZNAME:EST
DTSTART:20261101T060000
END:STANDARD
BEGIN:DAYLIGHT
TZOFFSETFROM:-0500
TZOFFSETTO:-0400
TZNAME:EDT
DTSTART:20270314T070000
END:DAYLIGHT
BEGIN:STANDARD
TZOFFSETFROM:-0400
TZOFFSETTO:-0500
TZNAME:EST
DTSTART:20271107T060000
END:STANDARD
END:VTIMEZONE
BEGIN:VTIMEZONE
TZID:America/Chicago
BEGIN:DAYLIGHT
TZOFFSETFROM:-0600
TZOFFSETTO:-0500
TZNAME:CDT
DTSTART:20250309T080000
END:DAYLIGHT
BEGIN:STANDARD
TZOFFSETFROM:-0500
TZOFFSETTO:-0600
TZNAME:CST
DTSTART:20251102T070000
END:STANDARD
BEGIN:DAYLIGHT
TZOFFSETFROM:-0600
TZOFFSETTO:-0500
TZNAME:CDT
DTSTART:20260308T080000
END:DAYLIGHT
BEGIN:STANDARD
TZOFFSETFROM:-0500
TZOFFSETTO:-0600
TZNAME:CST
DTSTART:20261101T070000
END:STANDARD
BEGIN:DAYLIGHT
TZOFFSETFROM:-0600
TZOFFSETTO:-0500
TZNAME:CDT
DTSTART:20270314T080000
END:DAYLIGHT
BEGIN:STANDARD
TZOFFSETFROM:-0500
TZOFFSETTO:-0600
TZNAME:CST
DTSTART:20271107T070000
END:STANDARD
END:VTIMEZONE
BEGIN:VTIMEZONE
TZID:America/Phoenix
BEGIN:STANDARD
TZOFFSETFROM:-0700
TZOFFSETTO:-0700
TZNAME:MST
DTSTART:20250101T000000
END:STANDARD
END:VTIMEZONE
BEGIN:VTIMEZONE
TZID:Pacific/Honolulu
BEGIN:STANDARD
TZOFFSETFROM:-1000
TZOFFSETTO:-1000
TZNAME:HST
DTSTART:20250101T000000
END:STANDARD
END:VTIMEZONE
BEGIN:VTIMEZONE
TZID:America/Los_Angeles
BEGIN:DAYLIGHT
TZOFFSETFROM:-0800
TZOFFSETTO:-0700
TZNAME:PDT
DTSTART:20250309T100000
END:DAYLIGHT
BEGIN:STANDARD
TZOFFSETFROM:-0700
TZOFFSETTO:-0800
TZNAME:PST
DTSTART:20251102T090000
END:STANDARD
BEGIN:DAYLIGHT
TZOFFSETFROM:-0800
TZOFFSETTO:-0700
TZNAME:PDT
DTSTART:20260308T100000
END:DAYLIGHT
BEGIN:STANDARD
TZOFFSETFROM:-0700
TZOFFSETTO:-0800
TZNAME:PST
DTSTART:20261101T090000
END:STANDARD
BEGIN:DAYLIGHT
TZOFFSETFROM:-0800
TZOFFSETTO:-0700
TZNAME:PDT
DTSTART:20270314T100000
END:DAYLIGHT
BEGIN:STANDARD
TZOFFSETFROM:-0700
TZOFFSETTO:-0800
TZNAME:PST
DTSTART:20271107T090000
END:STANDARD
END:VTIMEZONE
BEGIN:VEVENT
DTSTART;VALUE=DATE:20260502
DTEND;VALUE=DATE:20260504
DTSTAMP:20260425T212456
CREATED:20260119T170803Z
LAST-MODIFIED:20260119T175706Z
UID:6839-1777680000-1777852799@beavercreekcycle.com
SUMMARY:Battle of the Goats | NHE Championship
DESCRIPTION:Battle of the Goats | AMA US National Hard Enduro (NHE) Championship\n\n\nThe Battle of the Goats is a highly technical hard enduro race that serves as a cornerstone event in the AMA US Hard Enduro Series and the opening round of the East Regional Championship. Hosted at the Brushy Mountain Motorsports Park in Taylorsville\, North Carolina\, the course is notorious for its brutal terrain\, including relentless rock gardens\, off-camber roots\, ultra-slick creeks\, and extreme hill climbs. The format includes Saturday qualifiers that riders must finish within a time limit to advance to Sunday’s longer\, main event\, which is designed to test the skill and endurance of top professional and amateur riders alike.\n\nThe event attracts top talent in the sport\, with past winners including Trystan Hart\, Cody Webb\, and Ryder LeBlond. The 2026 edition\, which marks the 10th anniversary of the race\, is expected to be a major highlight of the national championship calendar. It offers significant exposure for riders and sponsors\, drawing a dedicated crowd of spectators to witness some of the gnarliest terrain conquerable by dirt-bikes.\n\n\n\n  \n\n\nLearn more: US Hard Enduro \nBCC Home \n\n\n\n 
URL:https://beavercreekcycle.com/bcc-event/battle-of-the-goats-championship/
LOCATION:Battle of the Goats\, 2491 Lambert Fork Rd\, Taylorsville\, NC\, 28681\, United States
CATEGORIES:Off Road
ATTACH;FMTTYPE=image/jpeg:https://beavercreekcycle.com/wp-content/uploads/2026/01/NHE.jpg
ORGANIZER;CN="US Hard Enduro":MAILTO:Info@ushardenduro.com
END:VEVENT
BEGIN:VEVENT
DTSTART;VALUE=DATE:20260502
DTEND;VALUE=DATE:20260504
DTSTAMP:20260425T212456
CREATED:20251214T205607Z
LAST-MODIFIED:20251214T205607Z
UID:6704-1777680000-1777852799@beavercreekcycle.com
SUMMARY:GNCC The Old Gray
DESCRIPTION:GNCC The Old Gray\nThe Old Gray GNCC returns to Monterey\, Tennessee as part of the 2026 Progressive GNCC Racing Series\, bringing world-class off-road racing back to central Tennessee. This iconic GNCC round delivers a full weekend of high-energy competition for riders\, teams\, and fans alike. \nKnown for its demanding and dynamic course design\, The Old Gray GNCC challenges competitors with a mix of flowing wooded trails\, technical sections\, elevation changes\, and fast-paced open areas. The terrain pushes riders to balance speed\, endurance\, and strategy\, making it a true test of cross-country racing skill. \nThe event welcomes professional\, amateur\, youth\, and specialty classes\, creating an inclusive race weekend for competitors of all ages and experience levels. From intense pro battles to youth racing and family-friendly activities\, The Old Gray GNCC offers something for everyone. \nSpectators can enjoy the electric GNCC atmosphere\, live racing action\, and the scenic surroundings of Monterey\, TN. As one of the most anticipated stops on the GNCC calendar\, The Old Gray continues to be a must-attend event for racers and fans of off-road racing. \nDetails: GNCC Racing\nBCC Home
URL:https://beavercreekcycle.com/bcc-event/gncc-the-old-gray/
LOCATION:The Old Gray\, 3781 Monterey Hwy\, Monterey\, TN\, 38574\, United States
CATEGORIES:Cross Country
ATTACH;FMTTYPE=image/png:https://beavercreekcycle.com/wp-content/uploads/2025/12/GNCC.png
ORGANIZER;CN="GNCC Racing":MAILTO:info@gnccracing.com
END:VEVENT
BEGIN:VEVENT
DTSTART;VALUE=DATE:20260425
DTEND;VALUE=DATE:20260426
DTSTAMP:20260425T212456
CREATED:20260120T030403Z
LAST-MODIFIED:20260120T034903Z
UID:6871-1777075200-1777161599@beavercreekcycle.com
SUMMARY:Black Rock | Ohio Hard Enduro
DESCRIPTION:Black Rock | Ohio Hard Enduro\nOhio Hard Endure State Championship Series\, Sponsored by Beaver Creek Cycle (BCC). \nGet ready to rev your engines and push your limits at the Ohio Hard Enduro Championship Series! This electrifying series promises thrilling races and intense competition that will leave you on the edge of your seat.\n\nOur goal is to design a Hard Enduro race course that enables the ‘B’ and ‘C’ riders to be offered a very challenging but very ridable race course. We aim to build our courses to invite other genres of racing (hare scramblers\, enduro\, and GNCC). Additionally\, our courses will offer the MOST challenging and extremely difficult ‘Pro’ and ‘A’ lines. To provide both levels of difficulty for each race\, there is a possibility of hosting a morning race and an afternoon race on the same day\, depending on the course venue.\n\nBlack Rock is an off-road racing event located in Ohio\, and is a regular fixture in the WEXCR (Woodchoppper Extreme Cross Country) series. The course is known for its challenging Cross Country (XC) format\, featuring technical woods sections\, rolling hills\, and mud that test both the endurance and skill of ATV and dirt bike riders.\n\n \n \nLearn more: Ohio Hard Enduro \nLink to register: Schedule Ohio Hard Enduro \nBCC Home
URL:https://beavercreekcycle.com/bcc-event/black-rock-hard-enduro-ohio-bcc/
LOCATION:Black Rock\, 17159 Joy Rd.\, Chesterhill\, OH\, 43728\, United States
CATEGORIES:Off Road
ATTACH;FMTTYPE=image/jpeg:https://beavercreekcycle.com/wp-content/uploads/2026/01/Hollowpoint.jpg
END:VEVENT
BEGIN:VEVENT
DTSTART;VALUE=DATE:20260418
DTEND;VALUE=DATE:20260420
DTSTAMP:20260425T212456
CREATED:20260119T165702Z
LAST-MODIFIED:20260120T041211Z
UID:6835-1776470400-1776643199@beavercreekcycle.com
SUMMARY:Moab Hard Enduro | NHE Championship
DESCRIPTION:Moab Hard Enduro | AMA US National Hard Enduro (NHE) Championship\nThe Moab Hard Enduro is a premier stop on the AMA US Hard Enduro Series\, held annually at the legendary Area BFE off-road complex in Moab\, Utah. This event is known for its brutal and technical course that challenges riders with sandy\, loose terrain on top of solid rock\, making traction difficult and pushing physical limits in the heart of red rock country. It attracts top North American and international riders for a multi-lap\, multi-hour main race with a multi-race knockout style.\n\nThe 2026 event will serve as Round 4 of the AMA National Hard Enduro Championship and includes a top 20 “Shootout” for prize money and optimal starting positions. Spectators can access the course to witness the high-intensity action in the scenic backdrop of the La Sal Mountains.\n\n\n  \n\n\nLearn more: Moab Hard Enduro \nBCC Home
URL:https://beavercreekcycle.com/bcc-event/moab-hard-enduro-nhe-championship/
LOCATION:Moab\, 543 N Main St\, Moab\, UT\, 84532\, United States
CATEGORIES:Off Road
ATTACH;FMTTYPE=image/jpeg:https://beavercreekcycle.com/wp-content/uploads/2026/01/NHE.jpg
ORGANIZER;CN="US Hard Enduro":MAILTO:Info@ushardenduro.com
END:VEVENT
BEGIN:VEVENT
DTSTART;VALUE=DATE:20260404
DTEND;VALUE=DATE:20260405
DTSTAMP:20260425T212456
CREATED:20260311T190610Z
LAST-MODIFIED:20260311T190610Z
UID:7256-1775260800-1775347199@beavercreekcycle.com
SUMMARY:Big Game Promotions
DESCRIPTION:CRA Schedule\nHS – Big Game Promotions\nApr 4\, 2026\nLocation TBA \n9:00 AM Mini Bikes -WhiteBackgrounds with Red arrow \n10:00 AM Pee Wee Bikes – Yellowbackgrounds with Black arrow \n10:45 AM Stacyc Bikes \n11:00 AM Big Bikes – Pinkbackground Black Arrow \n1:30 PM Mini Quads- Yellowbackgrounds with Black arrow \n2:00 PM Big Quads – Pink backgroundBlack Arrow \nYou should be signed up one half hour prior to your \n  \n  \nDetails: CRA Schedule\nBCC Home
URL:https://beavercreekcycle.com/bcc-event/big-game-promotions-april/
CATEGORIES:Cross Country,Off Road
ATTACH;FMTTYPE=image/jpeg:https://beavercreekcycle.com/wp-content/uploads/2026/03/CRA.jpg
ORGANIZER;CN="CRA":MAILTO:racecra@windstream.net
END:VEVENT
BEGIN:VEVENT
DTSTART;VALUE=DATE:20260329
DTEND;VALUE=DATE:20260330
DTSTAMP:20260425T212456
CREATED:20260311T190218Z
LAST-MODIFIED:20260311T190225Z
UID:7252-1774742400-1774828799@beavercreekcycle.com
SUMMARY:Salem - Big Valley Buckeye Series
DESCRIPTION:CRA Schedule\nSalem – Big Valley Buckeye Series\nMarch 29\, 2026\n9:00 AM Mini Bikes -WhiteBackgrounds with Red arrow \n10:00 AM Pee Wee Bikes – Yellowbackgrounds with Black arrow \n10:45 AM Stacyc Bikes \n11:00 AM Big Bikes – Pinkbackground Black Arrow \n1:30 PM Mini Quads- Yellowbackgrounds with Black arrow \n2:00 PM Big Quads – Pink backgroundBlack Arrow \nYou should be signed up one half hour prior to your start time \n  \nDetails: CRA Schedule\nBCC Home
URL:https://beavercreekcycle.com/bcc-event/salem-big-valley-buckeye-series/
LOCATION:Big Valley Buckeye Series\, 5558 St Rt 170\, East Palestine\, OH\, 44413\, United States
CATEGORIES:Cross Country,Off Road
ATTACH;FMTTYPE=image/jpeg:https://beavercreekcycle.com/wp-content/uploads/2026/03/CRA.jpg
ORGANIZER;CN="CRA":MAILTO:racecra@windstream.net
END:VEVENT
BEGIN:VEVENT
DTSTART;VALUE=DATE:20260328
DTEND;VALUE=DATE:20260330
DTSTAMP:20260425T212456
CREATED:20251214T203904Z
LAST-MODIFIED:20251214T203935Z
UID:6698-1774656000-1774828799@beavercreekcycle.com
SUMMARY:GNCC Camp Coker
DESCRIPTION:GNCC Camp Coker\nSouth Carolina’s Camp Coker GNCC and the amazing piece of property it sits on became an immediate favorite after its addition to the series in 2016. The Camp Coker Motocross facility was located on this property and hosted races for many years ranging from AMA District 29 motocross events to Loretta Lynn’s Amateur Motocross qualifiers and more. This event is held at Moree’s Sportsman’s Preserve\, which means the property is full of fun outdoor activities when you’re not on the track. Several fishing ponds\, plus a big pond for swimming with a rope swing\, which makes this event a true destination for fun. \nThe soil here is a bit on the sandy side\, but with more black\, loamy dirt mixed in as well. The inaugural event saw a good mix of some fast double track trails\, tighter single track trails\, big field sections\, and of course the use of the old Camp Coker Motocross track as well. All together\, this event became an immediate favorite\, as the course is just plain fun. The varying terrain\, flowing trails\, fun off-track activities\, and beautiful setting make the Camp Coker Bullet a must-race event!  \nDetails: GNCC Racing – Camp Coker\nBCC Home
URL:https://beavercreekcycle.com/bcc-event/gncc-camp-coker/
LOCATION:Moree’s Sportsman’s Preserve\, 1217 Moree Rd\, Society Hill\, SC\, 29593\, United States
CATEGORIES:Cross Country
ATTACH;FMTTYPE=image/png:https://beavercreekcycle.com/wp-content/uploads/2025/12/GNCC.png
ORGANIZER;CN="GNCC Racing":MAILTO:info@gnccracing.com
END:VEVENT
BEGIN:VEVENT
DTSTART;VALUE=DATE:20260322
DTEND;VALUE=DATE:20260323
DTSTAMP:20260425T212456
CREATED:20260311T185250Z
LAST-MODIFIED:20260311T185250Z
UID:7248-1774137600-1774223999@beavercreekcycle.com
SUMMARY:Big Game Promotions
DESCRIPTION:CRA Schedule\nBig Game Promotions\nMarch 22\, 2026\nLocation TBA \n9:00 AM Mini Bikes -WhiteBackgrounds with Red arrow \n10:00 AM Pee Wee Bikes – Yellowbackgrounds with Black arrow \n10:45 AM Stacyc Bikes \n11:00 AM Big Bikes – Pinkbackground Black Arrow \n1:30 PM Mini Quads- Yellowbackgrounds with Black arrow \n2:00 PM Big Quads – Pink backgroundBlack Arrow \nYou should be signed up one half hour prior to your start time \n  \nDetails: CRA Schedule\nBCC Home
URL:https://beavercreekcycle.com/bcc-event/big-game-promotions-cra/
CATEGORIES:Cross Country,Off Road
ATTACH;FMTTYPE=image/jpeg:https://beavercreekcycle.com/wp-content/uploads/2026/03/CRA.jpg
ORGANIZER;CN="CRA":MAILTO:racecra@windstream.net
END:VEVENT
BEGIN:VEVENT
DTSTART;VALUE=DATE:20260320
DTEND;VALUE=DATE:20260323
DTSTAMP:20260425T212456
CREATED:20260119T163819Z
LAST-MODIFIED:20260120T041141Z
UID:6830-1773964800-1774223999@beavercreekcycle.com
SUMMARY:Grinding Stone Hard Enduro | NHE Championship
DESCRIPTION:Grinding Stone Hard Enduro | AMA US National Hard Enduro (NHE) Championship\n\nThe Grinding Stone Hard Enduro is a marquee event in the AMA US Hard Enduro Series\, held annually in the rugged red rock landscapes of Page\, Arizona. Hosted by the Rockstars Motorcycle Club\, the race is renowned for its technical “slickrock” terrain\, featuring massive sandstone mesas\, near-vertical climbs\, and boulder-filled washes. Its proximity to landmarks like Lake Powell and Horseshoe Bend provides a world-class backdrop\, making it one of the most spectator-friendly off-road races in the United States\, complete with a designated spectator loop and UTV shuttle services.\n\nThe competition follows a grueling three-race knockout format designed to whittle down hundreds of riders to an elite few for a high-intensity main event. On-course features with names like “High Dive” and “Stairway to Heaven” challenge even professional riders like Ryder LeBlond\, the 2025 champion. Beyond the main trail action\, the event often features a Street Shootout in the center of Page\, where athletes navigate man-made obstacles for cash prizes and prime gate picks for the following day’s desert warfare. \n\n\n  \n\n\nLearn more: Grinding Stone Hard Enduro \nBCC Home
URL:https://beavercreekcycle.com/bcc-event/grinding-stone-hard-enduro/
LOCATION:Grindingstone\, 36.883350\, -111.455561\, Page\, AZ\, 86040\, United States
CATEGORIES:Off Road
ATTACH;FMTTYPE=image/jpeg:https://beavercreekcycle.com/wp-content/uploads/2026/01/NHE.jpg
ORGANIZER;CN="US Hard Enduro":MAILTO:Info@ushardenduro.com
END:VEVENT
BEGIN:VEVENT
DTSTART;VALUE=DATE:20260315
DTEND;VALUE=DATE:20260316
DTSTAMP:20260425T212456
CREATED:20260311T184934Z
LAST-MODIFIED:20260311T185241Z
UID:7243-1773532800-1773619199@beavercreekcycle.com
SUMMARY:Big Game Promotions
DESCRIPTION:CRA Schedule\nBig Game Promotions\nMarch 15\, 2026\nLocation TBA \n9:00 AM Mini Bikes -WhiteBackgrounds with Red arrow \n10:00 AM Pee Wee Bikes – Yellowbackgrounds with Black arrow \n10:45 AM Stacyc Bikes \n11:00 AM Big Bikes – Pinkbackground Black Arrow \n1:30 PM Mini Quads- Yellowbackgrounds with Black arrow \n2:00 PM Big Quads – Pink backgroundBlack Arrow \nYou should be signed up one half hour prior to your start time \n  \n  \nDetails: CRA Schedule\nBCC Home
URL:https://beavercreekcycle.com/bcc-event/big-game-promotions-cra-2/
CATEGORIES:Cross Country,Off Road
ATTACH;FMTTYPE=image/jpeg:https://beavercreekcycle.com/wp-content/uploads/2026/03/CRA.jpg
ORGANIZER;CN="CRA":MAILTO:racecra@windstream.net
END:VEVENT
BEGIN:VEVENT
DTSTART;VALUE=DATE:20260314
DTEND;VALUE=DATE:20260315
DTSTAMP:20260425T212456
CREATED:20260120T025142Z
LAST-MODIFIED:20260120T025307Z
UID:6866-1773446400-1773532799@beavercreekcycle.com
SUMMARY:Cliffs Edge | Ohio Hard Enduro
DESCRIPTION:Cliffs Edge | Ohio Hard Enduro\nOhio Hard Endure State Championship Series\, Sponsored by Beaver Creek Cycle (BCC). \nThe Cliffs Edge is an intense off-road motorcycle race that serves as the opening round for the Ohio Hard Enduro Championship Series. The event features a challenging course designed with extreme terrain for “Pro” riders while remaining navigable for “B” and “C” level competitors.\n\nGet ready to rev your engines and push your limits at the Ohio Hard Enduro Championship Series! This electrifying series promises thrilling races and intense competition that will leave you on the edge of your seat.\n\n \n \nLearn more: Ohio Hard Enduro \nLink to register: Schedule Ohio Hard Enduro \nBCC Home
URL:https://beavercreekcycle.com/bcc-event/cliffs-edge-hard-enduro-ohio-bcc/
LOCATION:Cliffs Edge\, 9171 Buckeye Rd.\, Sugar Grove\, OH\, 43155\, United States
CATEGORIES:Off Road
ATTACH;FMTTYPE=image/jpeg:https://beavercreekcycle.com/wp-content/uploads/2026/01/Hollowpoint.jpg
END:VEVENT
BEGIN:VEVENT
DTSTART;VALUE=DATE:20260228
DTEND;VALUE=DATE:20260302
DTSTAMP:20260425T212456
CREATED:20251201T184653Z
LAST-MODIFIED:20251201T200743Z
UID:6664-1772236800-1772409599@beavercreekcycle.com
SUMMARY:GNCC Wild Boar
DESCRIPTION:GNCC Wild Boar\nIn 2015\, GNCC Racing returned to Palatka\, Florida for the first time since 2004\, and the GNCC Wild Boar would quickly become one of the most popular Florida rounds that the series has ever hosted. This event is held near the Rodman Plantation\, a 6\,000 acre working cattle and timber plantation. On top of that\, the facility is ideally suited for weddings\, private parties\, corporate meetings\, retreats\, wildlife watching\, world class fishing and pure North Florida hunting adventures\, including the prized Osceola Turkey. However\, don’t let the beauty of the Rodman Plantation fool you. \nThe Wild Boar course is just about what you would expect from a GNCC event in Florida. This course sees sandy soil typical of Florida but mixed with black dirt\, and of course\, a few tough mud holes to contend with. As with most sand tracks\, the course gets rough as the race wears on\, so make sure to stay in shape over the winter\, as it’s a tough early round. The trails here have a good flow to them and range from slow tight sections\, to wide-open fast sections and more. \nDetails: GNCC Racing\nBCC Home
URL:https://beavercreekcycle.com/bcc-event/gncc-wild-boar/
LOCATION:Hog Waller\, Palatka\, FL\, United States
CATEGORIES:Cross Country
ATTACH;FMTTYPE=image/png:https://beavercreekcycle.com/wp-content/uploads/2025/12/GNCC.png
ORGANIZER;CN="GNCC Racing":MAILTO:info@gnccracing.com
END:VEVENT
BEGIN:VEVENT
DTSTART;VALUE=DATE:20260220
DTEND;VALUE=DATE:20260222
DTSTAMP:20260425T212456
CREATED:20260119T160532Z
LAST-MODIFIED:20260120T035823Z
UID:6826-1771545600-1771718399@beavercreekcycle.com
SUMMARY:Ultimate Hawaiian Hard Enduro | NHE Championship
DESCRIPTION:Ultimate Hawaiian Hard Enduro | AMA US National Hard Enduro (NHE) Championship\nThe Ultimate Hawaiian Hard Enduro is the second round of the 2026 AMA US National Hard Enduro Championship and will take place in Kauai\, HI\, from February 20–21\, 2026\, at the Omao track.\n\nEvent Details\n\nDates: February 20-21\, 2026 (Prologue on Friday\, main race on Saturday).\nLocation: The Omao Track in Ōmaʻo\, Kauaʻi\, a challenging course known for its technical terrain\, including slick creeks\, long hill climbs\, roots\, and rocks.\nClasses: The event typically includes Pro\, A (Expert)\, B (Intermediate)\, and C (Novice) classes. \n\n\n\n  \n\n\nLearn more: US Hard Enduro \nBCC Home
URL:https://beavercreekcycle.com/bcc-event/ultimate-hawaiian-hard-enduro-nhe/
LOCATION:The Ultimate Hawaiian Hard Enduro\, Kahili Rd\, Lihue\, HI\, 96766\, United States
CATEGORIES:Off Road
ATTACH;FMTTYPE=image/jpeg:https://beavercreekcycle.com/wp-content/uploads/2026/01/NHE.jpg
ORGANIZER;CN="US Hard Enduro":MAILTO:Info@ushardenduro.com
END:VEVENT
BEGIN:VEVENT
DTSTART;VALUE=DATE:20260214
DTEND;VALUE=DATE:20260216
DTSTAMP:20260425T212456
CREATED:20251201T175905Z
LAST-MODIFIED:20251201T190523Z
UID:6635-1771027200-1771199999@beavercreekcycle.com
SUMMARY:GNCC Big Buck
DESCRIPTION:GNCC Big Buck\nThe GNCC Big Buck course presents the standard obstacles: everything from tight woods\, to fields\, creek crossings and hill climbs. It’s a fast\, wide-open course\, but definitely not easy! The field sections are very fast and they get chopped up and rough as the weekend goes on\, so you need to have your suspension dialed in. \nUsually\, a spectacular creek jump is incorporated into the course where the riders launch off of a bank and over the water. Of course\, there’s a path around the jump for those who aren’t as comfortable with air time. \nThe Big Buck facility is owned by Henry Turner and his family\, and they are big fans and supporters of GNCC Racing. Even the town of Union gets behind the Big Buck big time. \nSince the course gets rough\, riders need to be smart. New lines often open up throughout the race\, so constantly scanning the terrain for a smoother route can save energy and reduce risks. Most of the tough sections\, the hills and mud\, are pretty basic\, which means the winner will be the rider who runs through the trees fastest. \nDetails: GNCC Racing\nBCC Home
URL:https://beavercreekcycle.com/bcc-event/gncc-big-buck/
LOCATION:Big Buck Farm\, Union\, SC\, United States
CATEGORIES:Cross Country
ATTACH;FMTTYPE=image/png:https://beavercreekcycle.com/wp-content/uploads/2025/12/GNCC.png
ORGANIZER;CN="GNCC Racing":MAILTO:info@gnccracing.com
END:VEVENT
BEGIN:VEVENT
DTSTART;VALUE=DATE:20260124
DTEND;VALUE=DATE:20260126
DTSTAMP:20260425T212456
CREATED:20260119T154603Z
LAST-MODIFIED:20260120T035556Z
UID:6820-1769212800-1769385599@beavercreekcycle.com
SUMMARY:King of the Motos | NHE Championship
DESCRIPTION:King of the Motos | AMA US National Hard Enduro (NHE) Championship\nKing of the Motos is the opening round of the AMA US National Hard Enduro (NHE) Championship. Held annually in Johnson Valley\, California\, as part of the King of the Hammers festival\, it is known as one of North America’s most challenging off-road races\, combining high-speed desert sections with technical rock crawling. \n  \n\n\n\nJanuary 24\, 2026\nSaturday\n\n7:30AM – King of the Grand Prix Riders and flaggers meeting – HT\n8:00AM – 3:00PM – King of the Grand Prix heat racing\n8:00AM -King of the Motos Rider’s Meeting at Start Line (remote location)\n8:30AM – Staging for King of the Motos Race 1 \n9:00AM – King of the Motos Start Race 1\n• 1 Lap race\n• Checkpoints close at 12 PM \n12:00PM – King of the Grand Prix Open Pro race\n1:00PM – King of the Motos Pro Shootout Staging near HT\n3:00PM – 5:00PM – Holeshot King Event\n6:00Pm – 7:00Pm – King of the Grand Prix Night Race \n\n\n\n\n\nJanuary 25\, 2026\nSunday\n\n7:30AM – King of the Grand Prix Riders and flagger meeting\n8:00AM – 2:00PM – King of the Grand Prix Ra\n8:00AM – King of the Motos Rider’s Meeting at start line \n9:00AM – King of the Motos Start Race 2\n• Checkpoints close at 2:00PM \n2:30PM – King of the Grand Prix Awards\n5:00Pm – King of the Motos Awards – HT \n\n\n\n\n\n\n\nAdditional Information\n\n\nPits\n\n\nIn the pits only the racers will be able to work on their bikes\, no outside assistance. \n\n\nAnyone may hand the racers tools\, parts\, fuel\, water\, food etc. \n\n\nOnly the racers may touch their bikes. Fueling must be done on a tarp or mat. \n\n\nSaturday- Pits will be near the finish line \n\n\n\n\nSunday- Pits will be at the Start/ Finish line as in years past. \n\n\nAgain\, only racers are allowed to work on their bike and may receive any parts\, tools\, fuel\, water\, etc. from an outside person. \n\n\nOnly racers are allowed on a hot race course\, no pit crew. \n\n\n​ \nMotorcycle Rules & Regulations\n\n\nAll motorcycles will be race ready machines without any technical unsafe issues. \n\n\nSpark arrestors are required. \n\n\nRace numbers are based on the AMA United States Hard Enduro series. \n\n\nNo outside assistance will be permitted. \n\n\nRacers may help racers on the course as long as they have not finished or timed out. \n\n\nAny work done to the motorcycle will be done by the racer or racers not finished or timed out. \n\n\nThe course will be difficult\, ascending in difficulty as the weekend proceeds. \n\n\n\n\nCheckpoints will be clearly marked on the course and on the GPS. \n\n\nNo passing in the checkpoints! Full Stop! \n\n\nRacers will be scanned in the checkpoints\, it is the competitors responsibility to hit all the checkpoints and get scanned! \n\n\nThe GPS track log will be the deciding factor in any course dispute! \n\n\nMake sure you know how to use your GPS and log your track! \n\n\n\n\n\n\n  \n\n\n\n\nLearn more: US Hard Enduro \nEvent Website: King of Motos \nBCC Home
URL:https://beavercreekcycle.com/bcc-event/king-of-the-motos-nhe-championship/
LOCATION:King of Motos\, CF7H+25\, Johnson Valley\, CA\, 92285\, United States
CATEGORIES:Off Road
ATTACH;FMTTYPE=image/jpeg:https://beavercreekcycle.com/wp-content/uploads/2026/01/NHE.jpg
ORGANIZER;CN="US Hard Enduro":MAILTO:Info@ushardenduro.com
END:VEVENT
END:VCALENDAR