BEGIN:VCALENDAR
VERSION:2.0
PRODID:-//Beaver Creek Cycle - ECPv6.15.20//NONSGML v1.0//EN
CALSCALE:GREGORIAN
METHOD:PUBLISH
X-ORIGINAL-URL:https://beavercreekcycle.com
X-WR-CALDESC:Events for Beaver Creek Cycle
REFRESH-INTERVAL;VALUE=DURATION:PT1H
X-Robots-Tag:noindex
X-PUBLISHED-TTL:PT1H
BEGIN:VTIMEZONE
TZID:America/New_York
BEGIN:DAYLIGHT
TZOFFSETFROM:-0500
TZOFFSETTO:-0400
TZNAME:EDT
DTSTART:20250309T070000
END:DAYLIGHT
BEGIN:STANDARD
TZOFFSETFROM:-0400
TZOFFSETTO:-0500
TZNAME:EST
DTSTART:20251102T060000
END:STANDARD
BEGIN:DAYLIGHT
TZOFFSETFROM:-0500
TZOFFSETTO:-0400
TZNAME:EDT
DTSTART:20260308T070000
END:DAYLIGHT
BEGIN:STANDARD
TZOFFSETFROM:-0400
TZOFFSETTO:-0500
TZNAME:EST
DTSTART:20261101T060000
END:STANDARD
BEGIN:DAYLIGHT
TZOFFSETFROM:-0500
TZOFFSETTO:-0400
TZNAME:EDT
DTSTART:20270314T070000
END:DAYLIGHT
BEGIN:STANDARD
TZOFFSETFROM:-0400
TZOFFSETTO:-0500
TZNAME:EST
DTSTART:20271107T060000
END:STANDARD
END:VTIMEZONE
BEGIN:VEVENT
DTSTART;VALUE=DATE:20260606
DTEND;VALUE=DATE:20260607
DTSTAMP:20260425T172033
CREATED:20260120T032505Z
LAST-MODIFIED:20260120T034827Z
UID:6880-1780704000-1780790399@beavercreekcycle.com
SUMMARY:Yellowbush | Ohio Hard Enduro
DESCRIPTION:Yellowbush | Ohio Hard Enduro\nOhio Hard Endure State Championship Series\, Sponsored by Beaver Creek Cycle (BCC). \nGet ready to rev your engines and push your limits at the Ohio Hard Enduro Championship Series! This electrifying series promises thrilling races and intense competition that will leave you on the edge of your seat.\n\nOur goal is to design a Hard Enduro race course that enables the ‘B’ and ‘C’ riders to be offered a very challenging but very ridable race course. We aim to build our courses to invite other genres of racing (hare scramblers\, enduro\, and GNCC). Additionally\, our courses will offer the MOST challenging and extremely difficult ‘Pro’ and ‘A’ lines. To provide both levels of difficulty for each race\, there is a possibility of hosting a morning race and an afternoon race on the same day\, depending on the course venue.\n\n \n \nLearn more: Ohio Hard Enduro \nLink to register: Schedule Ohio Hard Enduro \nBCC Home
URL:https://beavercreekcycle.com/bcc-event/yellowbush-hard-enduro-ohio-bcc/
LOCATION:Yellowbush\, 47536 SR 124\, Racine\, OH\, 45771\, United States
CATEGORIES:Off Road
ATTACH;FMTTYPE=image/jpeg:https://beavercreekcycle.com/wp-content/uploads/2026/01/Hollowpoint.jpg
END:VEVENT
BEGIN:VEVENT
DTSTART;VALUE=DATE:20260627
DTEND;VALUE=DATE:20260629
DTSTAMP:20260425T172033
CREATED:20251214T213827Z
LAST-MODIFIED:20251214T214034Z
UID:6715-1782518400-1782691199@beavercreekcycle.com
SUMMARY:GNCC Snowshoe
DESCRIPTION:GNCC Snowshoe\nGNCC Snowshoe is one of the toughest and most unique rounds on the GNCC series\, set on the rugged terrain of Snowshoe Mountain Resort in West Virginia. Riders begin with a distinctive live-engine start in the village\, a tribute to the historic Blackwater 100\, and then tackle a challenging course that plunges into deep woods\, steep hills\, rocks\, and roots before returning to open ski slopes that offer brief reprieves. \nThe track’s black loamy soil can be fast and grippy in dry conditions but becomes extremely sticky and demanding when wet\, making traction and stamina key. Expect sections of deep mud\, relentless elevation changes\, technical rooty woods\, and physically demanding terrain that test both speed and endurance. Snowshoe has a reputation as one of the toughest races of the season\, where every lap pushes riders and machines alike to their limits \nDetails: GNCC Racing\nBCC Home
URL:https://beavercreekcycle.com/bcc-event/gncc-snowshoe/
LOCATION:Snowshoe\, 10 Snowshoe Drive\, Snowshoe\, WV\, 26209\, United States
CATEGORIES:Cross Country
ATTACH;FMTTYPE=image/png:https://beavercreekcycle.com/wp-content/uploads/2025/12/GNCC.png
END:VEVENT
END:VCALENDAR